Package: VariantExperiment Version: 1.21.0 Command: /Library/Frameworks/R.framework/Resources/bin/R CMD INSTALL VariantExperiment StartedAt: 2025-02-09 15:05:00 -0500 (Sun, 09 Feb 2025) EndedAt: 2025-02-09 15:05:10 -0500 (Sun, 09 Feb 2025) EllapsedTime: 10.5 seconds RetCode: 0 Status: OK