Package: VariantExperiment Version: 1.21.0 Command: /home/biocbuild/R/R/bin/R CMD INSTALL VariantExperiment StartedAt: 2025-01-29 19:41:08 -0000 (Wed, 29 Jan 2025) EndedAt: 2025-01-29 19:41:41 -0000 (Wed, 29 Jan 2025) EllapsedTime: 33.0 seconds RetCode: 0 Status: OK