Package: VariantExperiment Version: 1.21.0 Command: /home/biocbuild/bbs-3.21-bioc/R/bin/R CMD INSTALL VariantExperiment StartedAt: 2025-02-04 15:22:36 -0500 (Tue, 04 Feb 2025) EndedAt: 2025-02-04 15:23:01 -0500 (Tue, 04 Feb 2025) EllapsedTime: 24.5 seconds RetCode: 0 Status: OK