Package: VariantExperiment Version: 1.21.0 Command: E:\biocbuild\bbs-3.21-bioc\R\bin\R.exe CMD INSTALL VariantExperiment StartedAt: 2025-02-09 16:10:15 -0500 (Sun, 09 Feb 2025) EndedAt: 2025-02-09 16:10:56 -0500 (Sun, 09 Feb 2025) EllapsedTime: 41.3 seconds RetCode: 0 Status: OK