Package: VariantFiltering Version: 1.43.0 Maintainer: Robert Castelo MaintainerEmail: robert.castelo at upf.edu git_url: https://git.bioconductor.org/packages/VariantFiltering git_branch: devel git_last_commit: d3bd159 git_last_commit_date: 2025-02-01 04:33:16 -0500 (Sat, 01 Feb 2025)