Package: VariantTools Version: 1.49.0 Command: /Library/Frameworks/R.framework/Resources/bin/R CMD INSTALL VariantTools StartedAt: 2025-02-09 15:11:17 -0500 (Sun, 09 Feb 2025) EndedAt: 2025-02-09 15:11:33 -0500 (Sun, 09 Feb 2025) EllapsedTime: 16.4 seconds RetCode: 0 Status: OK