Package: VariantTools Version: 1.49.0 Command: /home/biocbuild/R/R/bin/R CMD build --keep-empty-dirs --no-resave-data VariantTools StartedAt: 2025-01-28 03:07:00 -0000 (Tue, 28 Jan 2025) EndedAt: 2025-01-28 03:08:39 -0000 (Tue, 28 Jan 2025) EllapsedTime: 99.1 seconds RetCode: 0 Status: OK PackageFile: VariantTools_1.49.0.tar.gz PackageFileSize: 5.957 MiB