Package: VariantTools Version: 1.49.0 Command: /home/biocbuild/bbs-3.21-bioc/R/bin/R CMD check --install=check:VariantTools.install-out.txt --library=/home/biocbuild/bbs-3.21-bioc/R/site-library --timings VariantTools_1.49.0.tar.gz StartedAt: 2025-02-10 03:39:25 -0500 (Mon, 10 Feb 2025) EndedAt: 2025-02-10 03:45:47 -0500 (Mon, 10 Feb 2025) EllapsedTime: 381.4 seconds RetCode: 0 Status: WARNINGS CheckDir: VariantTools.Rcheck Warnings: 2