Package: VegaMC Version: 3.45.0 Command: /Library/Frameworks/R.framework/Resources/bin/R CMD check --install=check:VegaMC.install-out.txt --library=/Library/Frameworks/R.framework/Resources/library --no-vignettes --timings VegaMC_3.45.0.tar.gz StartedAt: 2025-02-10 00:19:29 -0500 (Mon, 10 Feb 2025) EndedAt: 2025-02-10 00:21:26 -0500 (Mon, 10 Feb 2025) EllapsedTime: 117.2 seconds RetCode: 0 Status: WARNINGS CheckDir: VegaMC.Rcheck Warnings: 2