Package: VegaMC Version: 3.45.0 Command: /home/biocbuild/bbs-3.21-bioc/R/bin/R CMD build --keep-empty-dirs --no-resave-data VegaMC StartedAt: 2025-02-04 19:40:48 -0500 (Tue, 04 Feb 2025) EndedAt: 2025-02-04 19:41:15 -0500 (Tue, 04 Feb 2025) EllapsedTime: 26.1 seconds RetCode: 0 Status: OK PackageFile: VegaMC_3.45.0.tar.gz PackageFileSize: 1.776 MiB