Package: VegaMC Version: 3.45.0 Command: /home/biocbuild/bbs-3.21-bioc/R/bin/R CMD check --install=check:VegaMC.install-out.txt --library=/home/biocbuild/bbs-3.21-bioc/R/site-library --timings VegaMC_3.45.0.tar.gz StartedAt: 2025-02-10 03:41:10 -0500 (Mon, 10 Feb 2025) EndedAt: 2025-02-10 03:42:55 -0500 (Mon, 10 Feb 2025) EllapsedTime: 105.1 seconds RetCode: 0 Status: WARNINGS CheckDir: VegaMC.Rcheck Warnings: 2