Package: VegaMC Version: 3.45.0 Command: /home/biocbuild/bbs-3.21-bioc/R/bin/R CMD INSTALL VegaMC StartedAt: 2025-02-04 15:24:01 -0500 (Tue, 04 Feb 2025) EndedAt: 2025-02-04 15:24:16 -0500 (Tue, 04 Feb 2025) EllapsedTime: 15.4 seconds RetCode: 0 Status: OK