Package: VegaMC Version: 3.45.0 Command: chmod a+r VegaMC -R && E:\biocbuild\bbs-3.21-bioc\R\bin\R.exe CMD build --keep-empty-dirs --no-resave-data VegaMC StartedAt: 2025-02-09 22:15:15 -0500 (Sun, 09 Feb 2025) EndedAt: 2025-02-09 22:15:53 -0500 (Sun, 09 Feb 2025) EllapsedTime: 38.0 seconds RetCode: 0 Status: OK PackageFile: VegaMC_3.45.0.tar.gz PackageFileSize: 1.667 MiB