Package: VennDetail Version: 1.23.0 Command: rm -rf VennDetail.buildbin-libdir && mkdir VennDetail.buildbin-libdir && /Users/biocbuild/BBS/utils/build-universal.sh VennDetail_1.23.0.tar.gz /Library/Frameworks/R.framework/Resources/bin/R VennDetail.buildbin-libdir StartedAt: 2025-02-04 22:36:26 -0500 (Tue, 04 Feb 2025) EndedAt: 2025-02-04 22:36:29 -0500 (Tue, 04 Feb 2025) EllapsedTime: 3.0 seconds RetCode: 0 Status: OK PackageFile: VennDetail_1.23.0.tgz PackageFileSize: 505.6 KiB