Package: VennDetail Version: 1.23.0 Command: /Library/Frameworks/R.framework/Resources/bin/R CMD build --keep-empty-dirs --no-resave-data VennDetail StartedAt: 2025-02-04 17:53:41 -0500 (Tue, 04 Feb 2025) EndedAt: 2025-02-04 17:53:46 -0500 (Tue, 04 Feb 2025) EllapsedTime: 5.1 seconds RetCode: 0 Status: OK PackageFile: VennDetail_1.23.0.tar.gz PackageFileSize: 527 KiB