Package: VennDetail Version: 1.23.0 Command: /Library/Frameworks/R.framework/Resources/bin/R CMD INSTALL VennDetail StartedAt: 2025-02-04 15:07:15 -0500 (Tue, 04 Feb 2025) EndedAt: 2025-02-04 15:07:18 -0500 (Tue, 04 Feb 2025) EllapsedTime: 2.5 seconds RetCode: 0 Status: OK