Package: VennDetail Version: 1.23.0 Command: /Library/Frameworks/R.framework/Resources/bin/R CMD check --install=check:VennDetail.install-out.txt --library=/Library/Frameworks/R.framework/Resources/library --no-vignettes --timings VennDetail_1.23.0.tar.gz StartedAt: 2025-02-10 00:19:50 -0500 (Mon, 10 Feb 2025) EndedAt: 2025-02-10 00:20:37 -0500 (Mon, 10 Feb 2025) EllapsedTime: 47.1 seconds RetCode: 0 Status: OK CheckDir: VennDetail.Rcheck Warnings: 0