Package: VennDetail Version: 1.23.0 Command: /home/biocbuild/bbs-3.21-bioc/R/bin/R CMD build --keep-empty-dirs --no-resave-data VennDetail StartedAt: 2025-02-04 19:40:59 -0500 (Tue, 04 Feb 2025) EndedAt: 2025-02-04 19:41:10 -0500 (Tue, 04 Feb 2025) EllapsedTime: 11.0 seconds RetCode: 0 Status: OK PackageFile: VennDetail_1.23.0.tar.gz PackageFileSize: 500.8 KiB