Package: VennDetail Version: 1.23.0 Command: /home/biocbuild/bbs-3.21-bioc/R/bin/R CMD INSTALL VennDetail StartedAt: 2025-02-04 15:07:38 -0500 (Tue, 04 Feb 2025) EndedAt: 2025-02-04 15:07:46 -0500 (Tue, 04 Feb 2025) EllapsedTime: 8.5 seconds RetCode: 0 Status: OK