Package: ViSEAGO Version: 1.21.0 Command: /Library/Frameworks/R.framework/Resources/bin/R CMD build --keep-empty-dirs --no-resave-data ViSEAGO StartedAt: 2025-02-09 17:53:20 -0500 (Sun, 09 Feb 2025) EndedAt: 2025-02-09 17:53:45 -0500 (Sun, 09 Feb 2025) EllapsedTime: 24.3 seconds RetCode: 0 Status: OK PackageFile: ViSEAGO_1.21.0.tar.gz PackageFileSize: 8.622 MiB