Package: ViSEAGO Version: 1.21.0 Command: /Library/Frameworks/R.framework/Resources/bin/R CMD INSTALL ViSEAGO StartedAt: 2025-02-12 15:25:45 -0500 (Wed, 12 Feb 2025) EndedAt: 2025-02-12 15:25:58 -0500 (Wed, 12 Feb 2025) EllapsedTime: 13.0 seconds RetCode: 0 Status: OK