Package: ViSEAGO Version: 1.21.0 Command: /home/biocbuild/R/R/bin/R CMD build --keep-empty-dirs --no-resave-data ViSEAGO StartedAt: 2025-01-28 03:08:30 -0000 (Tue, 28 Jan 2025) EndedAt: 2025-01-28 03:09:48 -0000 (Tue, 28 Jan 2025) EllapsedTime: 78.0 seconds RetCode: 0 Status: OK PackageFile: ViSEAGO_1.21.0.tar.gz PackageFileSize: 8.725 MiB