Package: ViSEAGO Version: 1.21.0 Command: /home/biocbuild/R/R/bin/R CMD check --install=check:ViSEAGO.install-out.txt --library=/home/biocbuild/R/R/site-library --no-vignettes --timings ViSEAGO_1.21.0.tar.gz StartedAt: 2025-01-27 13:52:20 -0000 (Mon, 27 Jan 2025) EndedAt: 2025-01-27 13:57:16 -0000 (Mon, 27 Jan 2025) EllapsedTime: 295.5 seconds RetCode: 0 Status: WARNINGS CheckDir: ViSEAGO.Rcheck Warnings: 9