Package: ViSEAGO Version: 1.21.0 Command: /home/biocbuild/bbs-3.21-bioc/R/bin/R CMD build --keep-empty-dirs --no-resave-data ViSEAGO StartedAt: 2025-02-12 19:39:23 -0500 (Wed, 12 Feb 2025) EndedAt: 2025-02-12 19:40:16 -0500 (Wed, 12 Feb 2025) EllapsedTime: 53.0 seconds RetCode: 0 Status: OK PackageFile: ViSEAGO_1.21.0.tar.gz PackageFileSize: 8.623 MiB