Package: ViSEAGO Version: 1.21.0 Command: rm -rf ViSEAGO.buildbin-libdir && mkdir ViSEAGO.buildbin-libdir && E:\biocbuild\bbs-3.21-bioc\R\bin\R.exe CMD INSTALL --build --library=ViSEAGO.buildbin-libdir ViSEAGO_1.21.0.tar.gz StartedAt: 2025-02-10 08:56:46 -0500 (Mon, 10 Feb 2025) EndedAt: 2025-02-10 08:57:55 -0500 (Mon, 10 Feb 2025) EllapsedTime: 69.1 seconds RetCode: 0 Status: OK PackageFile: ViSEAGO_1.21.0.zip PackageFileSize: 9.116 MiB