Package: ViSEAGO Version: 1.21.0 Command: chmod a+r ViSEAGO -R && E:\biocbuild\bbs-3.21-bioc\R\bin\R.exe CMD build --keep-empty-dirs --no-resave-data ViSEAGO StartedAt: 2025-02-09 22:16:03 -0500 (Sun, 09 Feb 2025) EndedAt: 2025-02-09 22:17:25 -0500 (Sun, 09 Feb 2025) EllapsedTime: 82.4 seconds RetCode: 0 Status: OK PackageFile: ViSEAGO_1.21.0.tar.gz PackageFileSize: 8.624 MiB