Package: ViSEAGO Version: 1.21.0 Command: E:\biocbuild\bbs-3.21-bioc\R\bin\R.exe CMD check --no-multiarch --install=check:ViSEAGO.install-out.txt --library=E:\biocbuild\bbs-3.21-bioc\R\library --no-vignettes --timings ViSEAGO_1.21.0.tar.gz StartedAt: 2025-02-10 06:30:53 -0500 (Mon, 10 Feb 2025) EndedAt: 2025-02-10 06:34:59 -0500 (Mon, 10 Feb 2025) EllapsedTime: 245.9 seconds RetCode: 0 Status: WARNINGS CheckDir: ViSEAGO.Rcheck Warnings: 4