Package: Voyager Version: 1.9.2 Command: /Library/Frameworks/R.framework/Resources/bin/R CMD check --install=check:Voyager.install-out.txt --library=/Library/Frameworks/R.framework/Resources/library --no-vignettes --timings Voyager_1.9.2.tar.gz StartedAt: 2025-02-04 21:57:55 -0500 (Tue, 04 Feb 2025) EndedAt: 2025-02-04 22:02:56 -0500 (Tue, 04 Feb 2025) EllapsedTime: 301.9 seconds RetCode: 0 Status: WARNINGS CheckDir: Voyager.Rcheck Warnings: 1