Package: Voyager Version: 1.9.2 Command: /Library/Frameworks/R.framework/Resources/bin/R CMD build --keep-empty-dirs --no-resave-data Voyager StartedAt: 2025-02-04 18:41:01 -0500 (Tue, 04 Feb 2025) EndedAt: 2025-02-04 18:42:52 -0500 (Tue, 04 Feb 2025) EllapsedTime: 110.8 seconds RetCode: 0 Status: OK PackageFile: Voyager_1.9.2.tar.gz PackageFileSize: 4.661 MiB