Package: Voyager Version: 1.9.2 Command: /Library/Frameworks/R.framework/Resources/bin/R CMD check --install=check:Voyager.install-out.txt --library=/Library/Frameworks/R.framework/Resources/library --no-vignettes --timings Voyager_1.9.2.tar.gz StartedAt: 2025-02-05 00:03:39 -0500 (Wed, 05 Feb 2025) EndedAt: 2025-02-05 00:17:42 -0500 (Wed, 05 Feb 2025) EllapsedTime: 843.1 seconds RetCode: 0 Status: WARNINGS CheckDir: Voyager.Rcheck Warnings: 1