Package: Voyager Version: 1.9.2 Command: /home/biocbuild/bbs-3.21-bioc/R/bin/R CMD build --keep-empty-dirs --no-resave-data Voyager StartedAt: 2025-02-09 19:44:07 -0500 (Sun, 09 Feb 2025) EndedAt: 2025-02-09 19:45:44 -0500 (Sun, 09 Feb 2025) EllapsedTime: 97.1 seconds RetCode: 0 Status: OK PackageFile: Voyager_1.9.2.tar.gz PackageFileSize: 3.959 MiB