Package: Voyager Version: 1.9.2 Command: /home/biocbuild/bbs-3.21-bioc/R/bin/R CMD check --install=check:Voyager.install-out.txt --library=/home/biocbuild/bbs-3.21-bioc/R/site-library --timings Voyager_1.9.2.tar.gz StartedAt: 2025-02-05 03:50:27 -0500 (Wed, 05 Feb 2025) EndedAt: 2025-02-05 04:04:25 -0500 (Wed, 05 Feb 2025) EllapsedTime: 837.8 seconds RetCode: 0 Status: WARNINGS CheckDir: Voyager.Rcheck Warnings: 1