Package: Voyager Version: 1.9.2 Command: /home/biocbuild/bbs-3.21-bioc/R/bin/R CMD INSTALL Voyager StartedAt: 2025-02-09 15:37:08 -0500 (Sun, 09 Feb 2025) EndedAt: 2025-02-09 15:38:00 -0500 (Sun, 09 Feb 2025) EllapsedTime: 51.9 seconds RetCode: 0 Status: OK