Package: Voyager Version: 1.9.2 Command: E:\biocbuild\bbs-3.21-bioc\R\bin\R.exe CMD check --no-multiarch --install=check:Voyager.install-out.txt --library=E:\biocbuild\bbs-3.21-bioc\R\library --no-vignettes --timings Voyager_1.9.2.tar.gz StartedAt: 2025-02-05 06:56:24 -0500 (Wed, 05 Feb 2025) EndedAt: 2025-02-05 07:11:07 -0500 (Wed, 05 Feb 2025) EllapsedTime: 883.5 seconds RetCode: 0 Status: WARNINGS CheckDir: Voyager.Rcheck Warnings: 1