Package: VplotR Version: 1.17.0 Command: rm -rf VplotR.buildbin-libdir && mkdir VplotR.buildbin-libdir && /Users/biocbuild/BBS/utils/build-universal.sh VplotR_1.17.0.tar.gz /Library/Frameworks/R.framework/Resources/bin/R VplotR.buildbin-libdir StartedAt: 2025-02-05 22:39:39 -0500 (Wed, 05 Feb 2025) EndedAt: 2025-02-05 22:39:52 -0500 (Wed, 05 Feb 2025) EllapsedTime: 13.3 seconds RetCode: 0 Status: OK PackageFile: VplotR_1.17.0.tgz PackageFileSize: 5.282 MiB