Package: VplotR Version: 1.17.0 Command: /Library/Frameworks/R.framework/Resources/bin/R CMD build --keep-empty-dirs --no-resave-data VplotR StartedAt: 2025-02-05 17:56:20 -0500 (Wed, 05 Feb 2025) EndedAt: 2025-02-05 17:57:08 -0500 (Wed, 05 Feb 2025) EllapsedTime: 47.5 seconds RetCode: 0 Status: OK PackageFile: VplotR_1.17.0.tar.gz PackageFileSize: 5.163 MiB