Package: VplotR Version: 1.17.0 Command: /home/biocbuild/R/R/bin/R CMD build --keep-empty-dirs --no-resave-data VplotR StartedAt: 2025-01-28 03:09:06 -0000 (Tue, 28 Jan 2025) EndedAt: 2025-01-28 03:11:49 -0000 (Tue, 28 Jan 2025) EllapsedTime: 163.1 seconds RetCode: 0 Status: OK PackageFile: VplotR_1.17.0.tar.gz PackageFileSize: 4.978 MiB