Package: VplotR Version: 1.17.0 Command: /Library/Frameworks/R.framework/Resources/bin/R CMD build --keep-empty-dirs --no-resave-data VplotR StartedAt: 2025-02-03 18:44:34 -0500 (Mon, 03 Feb 2025) EndedAt: 2025-02-03 18:46:32 -0500 (Mon, 03 Feb 2025) EllapsedTime: 118.8 seconds RetCode: 0 Status: OK PackageFile: VplotR_1.17.0.tar.gz PackageFileSize: 5.162 MiB