Package: VplotR Version: 1.17.0 Command: /Library/Frameworks/R.framework/Resources/bin/R CMD INSTALL VplotR StartedAt: 2025-02-03 15:20:56 -0500 (Mon, 03 Feb 2025) EndedAt: 2025-02-03 15:21:33 -0500 (Mon, 03 Feb 2025) EllapsedTime: 36.9 seconds RetCode: 0 Status: OK