Package: VplotR Version: 1.17.0 Command: /home/biocbuild/bbs-3.21-bioc/R/bin/R CMD build --keep-empty-dirs --no-resave-data VplotR StartedAt: 2025-02-03 19:52:37 -0500 (Mon, 03 Feb 2025) EndedAt: 2025-02-03 19:54:25 -0500 (Mon, 03 Feb 2025) EllapsedTime: 107.1 seconds RetCode: 0 Status: OK PackageFile: VplotR_1.17.0.tar.gz PackageFileSize: 5.16 MiB