Package: VplotR Version: 1.17.0 Command: /home/biocbuild/bbs-3.21-bioc/R/bin/R CMD INSTALL VplotR StartedAt: 2025-02-03 15:57:29 -0500 (Mon, 03 Feb 2025) EndedAt: 2025-02-03 15:58:00 -0500 (Mon, 03 Feb 2025) EllapsedTime: 30.4 seconds RetCode: 0 Status: OK