Package: VplotR Version: 1.17.0 Command: chmod a+r VplotR -R && E:\biocbuild\bbs-3.21-bioc\R\bin\R.exe CMD build --keep-empty-dirs --no-resave-data VplotR StartedAt: 2025-02-03 22:29:05 -0500 (Mon, 03 Feb 2025) EndedAt: 2025-02-03 22:31:25 -0500 (Mon, 03 Feb 2025) EllapsedTime: 139.9 seconds RetCode: 0 Status: OK PackageFile: VplotR_1.17.0.tar.gz PackageFileSize: 5.009 MiB