Package: Wrench Version: 1.25.0 Command: /Library/Frameworks/R.framework/Resources/bin/R CMD build --keep-empty-dirs --no-resave-data Wrench StartedAt: 2025-02-04 17:55:16 -0500 (Tue, 04 Feb 2025) EndedAt: 2025-02-04 17:55:34 -0500 (Tue, 04 Feb 2025) EllapsedTime: 18.2 seconds RetCode: 0 Status: OK PackageFile: Wrench_1.25.0.tar.gz PackageFileSize: 225.2 KiB