Package: Wrench Version: 1.25.0 Command: /Library/Frameworks/R.framework/Resources/bin/R CMD check --install=check:Wrench.install-out.txt --library=/Library/Frameworks/R.framework/Resources/library --no-vignettes --timings Wrench_1.25.0.tar.gz StartedAt: 2025-02-09 21:57:22 -0500 (Sun, 09 Feb 2025) EndedAt: 2025-02-09 21:57:44 -0500 (Sun, 09 Feb 2025) EllapsedTime: 22.3 seconds RetCode: 0 Status: OK CheckDir: Wrench.Rcheck Warnings: 0