Package: Wrench Version: 1.25.0 Command: /home/biocbuild/R/R/bin/R CMD build --keep-empty-dirs --no-resave-data Wrench StartedAt: 2025-01-28 03:12:13 -0000 (Tue, 28 Jan 2025) EndedAt: 2025-01-28 03:13:15 -0000 (Tue, 28 Jan 2025) EllapsedTime: 62.0 seconds RetCode: 0 Status: OK PackageFile: Wrench_1.25.0.tar.gz PackageFileSize: 249.7 KiB