Package: Wrench Version: 1.25.0 Command: /Library/Frameworks/R.framework/Resources/bin/R CMD INSTALL Wrench StartedAt: 2025-02-12 15:06:55 -0500 (Wed, 12 Feb 2025) EndedAt: 2025-02-12 15:07:27 -0500 (Wed, 12 Feb 2025) EllapsedTime: 31.5 seconds RetCode: 0 Status: OK