Package: Wrench Version: 1.25.0 Command: /home/biocbuild/bbs-3.21-bioc/R/bin/R CMD INSTALL Wrench StartedAt: 2025-02-09 15:04:34 -0500 (Sun, 09 Feb 2025) EndedAt: 2025-02-09 15:04:55 -0500 (Sun, 09 Feb 2025) EllapsedTime: 21.3 seconds RetCode: 0 Status: OK