Package: Wrench Version: 1.25.0 Command: rm -rf Wrench.buildbin-libdir && mkdir Wrench.buildbin-libdir && E:\biocbuild\bbs-3.21-bioc\R\bin\R.exe CMD INSTALL --build --library=Wrench.buildbin-libdir Wrench_1.25.0.tar.gz StartedAt: 2025-02-10 08:57:43 -0500 (Mon, 10 Feb 2025) EndedAt: 2025-02-10 08:57:51 -0500 (Mon, 10 Feb 2025) EllapsedTime: 7.9 seconds RetCode: 0 Status: OK PackageFile: Wrench_1.25.0.zip PackageFileSize: 269.3 KiB