Package: Wrench Version: 1.25.0 Command: chmod a+r Wrench -R && E:\biocbuild\bbs-3.21-bioc\R\bin\R.exe CMD build --keep-empty-dirs --no-resave-data Wrench StartedAt: 2025-02-09 22:19:19 -0500 (Sun, 09 Feb 2025) EndedAt: 2025-02-09 22:20:15 -0500 (Sun, 09 Feb 2025) EllapsedTime: 55.6 seconds RetCode: 0 Status: OK PackageFile: Wrench_1.25.0.tar.gz PackageFileSize: 225 KiB