Package: Wrench Version: 1.25.0 Command: E:\biocbuild\bbs-3.21-bioc\R\bin\R.exe CMD check --no-multiarch --install=check:Wrench.install-out.txt --library=E:\biocbuild\bbs-3.21-bioc\R\library --no-vignettes --timings Wrench_1.25.0.tar.gz StartedAt: 2025-02-10 06:35:20 -0500 (Mon, 10 Feb 2025) EndedAt: 2025-02-10 06:36:24 -0500 (Mon, 10 Feb 2025) EllapsedTime: 63.7 seconds RetCode: 0 Status: OK CheckDir: Wrench.Rcheck Warnings: 0